BEGIN:VCALENDAR
VERSION:2.0
X-WR-TIMEZONE:Europe/Paris
CALSCALE:GREGORIAN
PRODID:-//SPIP/Plugin Agenda//NONSGML v1.0//FR


X-WR-CALNAME;VALUE=TEXT:La thérapie Vittoz -- Agenda
X-WR-RELCALID:https://www.therapie-vittoz.org


BEGIN:VEVENT
SUMMARY:Stage Vittoz et Voix à Dinard
UID:evenement79 @ https://www.therapie-vittoz.org
DTSTAMP:20000101T000000Z
DTSTART:20260420T120000Z
DTEND:20260422T170000Z
CREATED:20000101T000000Z
LAST-MODIFIED:20260122T161940Z
CATEGORIES:Stage Vittoz et Voix à Dinard
URL:https://www.therapie-vittoz.org/Stage-Vittoz-et-Voix.html?id_evenement=79
SEQUENCE:0

STATUS:CONFIRMED
END:VEVENT
END:VCALENDAR
